BEGIN:VCALENDAR
VERSION:2.0
PRODID:-//RobertJMorgan.com - ECPv6.15.18//NONSGML v1.0//EN
CALSCALE:GREGORIAN
METHOD:PUBLISH
X-ORIGINAL-URL:https://www.robertjmorgan.com
X-WR-CALDESC:Events for RobertJMorgan.com
REFRESH-INTERVAL;VALUE=DURATION:PT1H
X-Robots-Tag:noindex
X-PUBLISHED-TTL:PT1H
BEGIN:VTIMEZONE
TZID:America/Chicago
BEGIN:DAYLIGHT
TZOFFSETFROM:-0600
TZOFFSETTO:-0500
TZNAME:CDT
DTSTART:20210314T080000
END:DAYLIGHT
BEGIN:STANDARD
TZOFFSETFROM:-0500
TZOFFSETTO:-0600
TZNAME:CST
DTSTART:20211107T070000
END:STANDARD
BEGIN:DAYLIGHT
TZOFFSETFROM:-0600
TZOFFSETTO:-0500
TZNAME:CDT
DTSTART:20220313T080000
END:DAYLIGHT
BEGIN:STANDARD
TZOFFSETFROM:-0500
TZOFFSETTO:-0600
TZNAME:CST
DTSTART:20221106T070000
END:STANDARD
BEGIN:DAYLIGHT
TZOFFSETFROM:-0600
TZOFFSETTO:-0500
TZNAME:CDT
DTSTART:20230312T080000
END:DAYLIGHT
BEGIN:STANDARD
TZOFFSETFROM:-0500
TZOFFSETTO:-0600
TZNAME:CST
DTSTART:20231105T070000
END:STANDARD
BEGIN:DAYLIGHT
TZOFFSETFROM:-0600
TZOFFSETTO:-0500
TZNAME:CDT
DTSTART:20240310T080000
END:DAYLIGHT
BEGIN:STANDARD
TZOFFSETFROM:-0500
TZOFFSETTO:-0600
TZNAME:CST
DTSTART:20241103T070000
END:STANDARD
END:VTIMEZONE
BEGIN:VEVENT
DTSTART;TZID=America/Chicago:20221226T000000
DTEND;TZID=America/Chicago:20230104T235959
DTSTAMP:20260423T051231
CREATED:20221116T172232Z
LAST-MODIFIED:20221117T212933Z
UID:36058-1672012800-1672876799@www.robertjmorgan.com
SUMMARY:Israel Trip with Dr. Jarrett Stephens
DESCRIPTION:Join my friend Dr. Jarrett Stephens and me as we travel the Holy Land with his congregation\, Champion Forest Baptist Church.
URL:https://www.robertjmorgan.com/event/israel-trip-with-dr-jarrett-stephens/
LOCATION:Tennessee
ATTACH;FMTTYPE=image/jpeg:https://www.robertjmorgan.com/wp-content/uploads/2022/11/362C98F0-BBB3-4438-8CAC-15CB0718F7E6_4_5005_c.jpeg
END:VEVENT
END:VCALENDAR