BEGIN:VCALENDAR
VERSION:2.0
PRODID:-//RobertJMorgan.com - ECPv6.15.18//NONSGML v1.0//EN
CALSCALE:GREGORIAN
METHOD:PUBLISH
X-WR-CALNAME:RobertJMorgan.com
X-ORIGINAL-URL:https://www.robertjmorgan.com
X-WR-CALDESC:Events for RobertJMorgan.com
REFRESH-INTERVAL;VALUE=DURATION:PT1H
X-Robots-Tag:noindex
X-PUBLISHED-TTL:PT1H
BEGIN:VTIMEZONE
TZID:America/Chicago
BEGIN:DAYLIGHT
TZOFFSETFROM:-0600
TZOFFSETTO:-0500
TZNAME:CDT
DTSTART:20220313T080000
END:DAYLIGHT
BEGIN:STANDARD
TZOFFSETFROM:-0500
TZOFFSETTO:-0600
TZNAME:CST
DTSTART:20221106T070000
END:STANDARD
BEGIN:DAYLIGHT
TZOFFSETFROM:-0600
TZOFFSETTO:-0500
TZNAME:CDT
DTSTART:20230312T080000
END:DAYLIGHT
BEGIN:STANDARD
TZOFFSETFROM:-0500
TZOFFSETTO:-0600
TZNAME:CST
DTSTART:20231105T070000
END:STANDARD
BEGIN:DAYLIGHT
TZOFFSETFROM:-0600
TZOFFSETTO:-0500
TZNAME:CDT
DTSTART:20240310T080000
END:DAYLIGHT
BEGIN:STANDARD
TZOFFSETFROM:-0500
TZOFFSETTO:-0600
TZNAME:CST
DTSTART:20241103T070000
END:STANDARD
END:VTIMEZONE
BEGIN:VEVENT
DTSTART;TZID=America/Chicago:20230311T000000
DTEND;TZID=America/Chicago:20230312T235959
DTSTAMP:20260422T172854
CREATED:20230124T212150Z
LAST-MODIFIED:20230124T212329Z
UID:36585-1678492800-1678665599@www.robertjmorgan.com
SUMMARY:Speaking at Warren Baptist Church
DESCRIPTION:Saturday Men’s Conference and Sunday Morning Serviceshttps://warren.church/events/
URL:https://www.robertjmorgan.com/event/speaking-at-warren-baptist-church/
LOCATION:Tennessee
CATEGORIES:Speaking
ATTACH;FMTTYPE=image/jpeg:https://www.robertjmorgan.com/wp-content/uploads/2023/01/M2M23_1200x628.jpg
END:VEVENT
END:VCALENDAR