BEGIN:VCALENDAR
VERSION:2.0
PRODID:-//RobertJMorgan.com - ECPv6.15.18//NONSGML v1.0//EN
CALSCALE:GREGORIAN
METHOD:PUBLISH
X-WR-CALNAME:RobertJMorgan.com
X-ORIGINAL-URL:https://www.robertjmorgan.com
X-WR-CALDESC:Events for RobertJMorgan.com
REFRESH-INTERVAL;VALUE=DURATION:PT1H
X-Robots-Tag:noindex
X-PUBLISHED-TTL:PT1H
BEGIN:VTIMEZONE
TZID:America/Chicago
BEGIN:DAYLIGHT
TZOFFSETFROM:-0600
TZOFFSETTO:-0500
TZNAME:CDT
DTSTART:20220313T080000
END:DAYLIGHT
BEGIN:STANDARD
TZOFFSETFROM:-0500
TZOFFSETTO:-0600
TZNAME:CST
DTSTART:20221106T070000
END:STANDARD
BEGIN:DAYLIGHT
TZOFFSETFROM:-0600
TZOFFSETTO:-0500
TZNAME:CDT
DTSTART:20230312T080000
END:DAYLIGHT
BEGIN:STANDARD
TZOFFSETFROM:-0500
TZOFFSETTO:-0600
TZNAME:CST
DTSTART:20231105T070000
END:STANDARD
BEGIN:DAYLIGHT
TZOFFSETFROM:-0600
TZOFFSETTO:-0500
TZNAME:CDT
DTSTART:20240310T080000
END:DAYLIGHT
BEGIN:STANDARD
TZOFFSETFROM:-0500
TZOFFSETTO:-0600
TZNAME:CST
DTSTART:20241103T070000
END:STANDARD
END:VTIMEZONE
BEGIN:VEVENT
DTSTART;TZID=America/Chicago:20230319T000000
DTEND;TZID=America/Chicago:20230322T235959
DTSTAMP:20260422T174746
CREATED:20230126T170051Z
LAST-MODIFIED:20230126T170054Z
UID:36599-1679184000-1679529599@www.robertjmorgan.com
SUMMARY:Speaking at First Free Will Baptist Church
DESCRIPTION:Pastor Rob will be preaching First Free Will Baptist’s revival services throughout the week.
URL:https://www.robertjmorgan.com/event/speaking-at-first-free-will-baptist-church/
LOCATION:Tennessee
CATEGORIES:Speaking
ATTACH;FMTTYPE=image/png:https://www.robertjmorgan.com/wp-content/uploads/2023/01/ll.png
END:VEVENT
END:VCALENDAR