BEGIN:VCALENDAR
VERSION:2.0
PRODID:-//RobertJMorgan.com - ECPv6.15.18//NONSGML v1.0//EN
CALSCALE:GREGORIAN
METHOD:PUBLISH
X-WR-CALNAME:RobertJMorgan.com
X-ORIGINAL-URL:https://www.robertjmorgan.com
X-WR-CALDESC:Events for RobertJMorgan.com
REFRESH-INTERVAL;VALUE=DURATION:PT1H
X-Robots-Tag:noindex
X-PUBLISHED-TTL:PT1H
BEGIN:VTIMEZONE
TZID:America/Chicago
BEGIN:DAYLIGHT
TZOFFSETFROM:-0600
TZOFFSETTO:-0500
TZNAME:CDT
DTSTART:20220313T080000
END:DAYLIGHT
BEGIN:STANDARD
TZOFFSETFROM:-0500
TZOFFSETTO:-0600
TZNAME:CST
DTSTART:20221106T070000
END:STANDARD
BEGIN:DAYLIGHT
TZOFFSETFROM:-0600
TZOFFSETTO:-0500
TZNAME:CDT
DTSTART:20230312T080000
END:DAYLIGHT
BEGIN:STANDARD
TZOFFSETFROM:-0500
TZOFFSETTO:-0600
TZNAME:CST
DTSTART:20231105T070000
END:STANDARD
BEGIN:DAYLIGHT
TZOFFSETFROM:-0600
TZOFFSETTO:-0500
TZNAME:CDT
DTSTART:20240310T080000
END:DAYLIGHT
BEGIN:STANDARD
TZOFFSETFROM:-0500
TZOFFSETTO:-0600
TZNAME:CST
DTSTART:20241103T070000
END:STANDARD
END:VTIMEZONE
BEGIN:VEVENT
DTSTART;TZID=America/Chicago:20231013T080000
DTEND;TZID=America/Chicago:20231015T170000
DTSTAMP:20260421T190920
CREATED:20230503T204247Z
LAST-MODIFIED:20230721T192416Z
UID:37102-1697184000-1697389200@www.robertjmorgan.com
SUMMARY:Speaking at Ventura Jubilee Fellowship
DESCRIPTION:
URL:https://www.robertjmorgan.com/event/speaking-at-ventura-jubilee-fellowship/
LOCATION:1956 Palma Drive\, Suite A\, Ventura\, CA 93003
CATEGORIES:Speaking
ATTACH;FMTTYPE=image/png:https://www.robertjmorgan.com/wp-content/uploads/2023/05/VJF-logo-5.png
END:VEVENT
END:VCALENDAR