BEGIN:VCALENDAR
VERSION:2.0
PRODID:-//RobertJMorgan.com - ECPv6.15.18//NONSGML v1.0//EN
CALSCALE:GREGORIAN
METHOD:PUBLISH
X-WR-CALNAME:RobertJMorgan.com
X-ORIGINAL-URL:https://www.robertjmorgan.com
X-WR-CALDESC:Events for RobertJMorgan.com
REFRESH-INTERVAL;VALUE=DURATION:PT1H
X-Robots-Tag:noindex
X-PUBLISHED-TTL:PT1H
BEGIN:VTIMEZONE
TZID:America/Chicago
BEGIN:DAYLIGHT
TZOFFSETFROM:-0600
TZOFFSETTO:-0500
TZNAME:CDT
DTSTART:20220313T080000
END:DAYLIGHT
BEGIN:STANDARD
TZOFFSETFROM:-0500
TZOFFSETTO:-0600
TZNAME:CST
DTSTART:20221106T070000
END:STANDARD
BEGIN:DAYLIGHT
TZOFFSETFROM:-0600
TZOFFSETTO:-0500
TZNAME:CDT
DTSTART:20230312T080000
END:DAYLIGHT
BEGIN:STANDARD
TZOFFSETFROM:-0500
TZOFFSETTO:-0600
TZNAME:CST
DTSTART:20231105T070000
END:STANDARD
BEGIN:DAYLIGHT
TZOFFSETFROM:-0600
TZOFFSETTO:-0500
TZNAME:CDT
DTSTART:20240310T080000
END:DAYLIGHT
BEGIN:STANDARD
TZOFFSETFROM:-0500
TZOFFSETTO:-0600
TZNAME:CST
DTSTART:20241103T070000
END:STANDARD
END:VTIMEZONE
BEGIN:VEVENT
DTSTART;TZID=America/Chicago:20230810T080000
DTEND;TZID=America/Chicago:20230811T170000
DTSTAMP:20260421T230206
CREATED:20230503T202955Z
LAST-MODIFIED:20230503T203334Z
UID:37091-1691654400-1691773200@www.robertjmorgan.com
SUMMARY:Speaking at Word and Worship Conference
DESCRIPTION:Rob will speak at this conference at Envoy Church (Sunnyside Christian Church) in Colorado Springs\, CO.  \n\n\n\n\n\n\n\n\n\n\nEnvoy Church
URL:https://www.robertjmorgan.com/event/speaking-at-word-and-worship-conference/
CATEGORIES:Speaking
ATTACH;FMTTYPE=image/png:https://www.robertjmorgan.com/wp-content/uploads/2023/05/RGB_Vertical_Web_HighNoon.png
END:VEVENT
BEGIN:VEVENT
DTSTART;TZID=America/Chicago:20230819T080000
DTEND;TZID=America/Chicago:20230820T170000
DTSTAMP:20260421T230206
CREATED:20230503T203345Z
LAST-MODIFIED:20230503T203537Z
UID:37093-1692432000-1692550800@www.robertjmorgan.com
SUMMARY:Speaking at Shadow Mountain Community Church
DESCRIPTION:
URL:https://www.robertjmorgan.com/event/speaking-at-shadow-mountain-community-church/
CATEGORIES:Speaking
ATTACH;FMTTYPE=image/jpeg:https://www.robertjmorgan.com/wp-content/uploads/2023/05/Image-5-3-23-at-3.35-PM.jpg
END:VEVENT
BEGIN:VEVENT
DTSTART;TZID=America/Chicago:20230823T080000
DTEND;TZID=America/Chicago:20230823T170000
DTSTAMP:20260421T230206
CREATED:20230503T203544Z
LAST-MODIFIED:20230503T203802Z
UID:37096-1692777600-1692810000@www.robertjmorgan.com
SUMMARY:Speaking at Significance Luncheon
DESCRIPTION:Rob will speak at this event\, hosted by Southeast Christian Church in Louisville\, KY.
URL:https://www.robertjmorgan.com/event/speaking-at-significance-luncheon/
END:VEVENT
END:VCALENDAR